BEGIN:VCALENDAR
VERSION:2.0
PRODID:-//wp-events-plugin.com//7.2.3.1//EN
BEGIN:VEVENT
UID:16@05entertainmentagency.com
DTSTART:20240329T170000Z
DTEND:20240329T200000Z
DTSTAMP:20240304T005321Z
URL:https://www.05entertainmentagency.com/events/genevieve-zapp-hall-antiq
 ue-show/
SUMMARY:Genevieve @ Zapp Hall Antique Show
DESCRIPTION:
ATTACH;FMTTYPE=image/jpeg:https://www.05entertainmentagency.com/wp-content
 /uploads/2024/03/GENEVIEVE-ZAPP-scaled.jpg
LOCATION:Zapp Hall Antique Show\, 4217 State Hwy 237 \, Warrenton\, TX\, 78
 954\, United States
X-APPLE-STRUCTURED-LOCATION;VALUE=URI;X-ADDRESS=4217 State Hwy 237 \, Warre
 nton\, TX\, 78954\, United States;X-APPLE-RADIUS=100;X-TITLE=Zapp Hall Ant
 ique Show:geo:0,0
END:VEVENT
END:VCALENDAR