BEGIN:VCALENDAR
VERSION:2.0
PRODID:-//wp-events-plugin.com//7.2.3.1//EN
BEGIN:VEVENT
UID:37@05entertainmentagency.com
DTSTART;TZID=America/Chicago:20240731T180000
DTEND;TZID=America/Chicago:20240731T210000
DTSTAMP:20240510T034241Z
URL:https://www.05entertainmentagency.com/events/jenna-katherine-the-feed-
 store-grill-bar/
SUMMARY:Jenna Katherine @ The Feed Store Grill & Bar
DESCRIPTION:
ATTACH;FMTTYPE=image/jpeg:https://www.05entertainmentagency.com/wp-content
 /uploads/2024/05/Jenna-Feed-1-scaled.jpg
LOCATION:The Feed Store Grill & Bar\, 26333 Old Hwy 105 W\, Montgomery\, Te
 xas\, 77316\, United States
X-APPLE-STRUCTURED-LOCATION;VALUE=URI;X-ADDRESS=26333 Old Hwy 105 W\, Montg
 omery\, Texas\, 77316\, United States;X-APPLE-RADIUS=100;X-TITLE=The Feed 
 Store Grill & Bar:geo:0,0
END:VEVENT
BEGIN:VTIMEZONE
TZID:America/Chicago
X-LIC-LOCATION:America/Chicago
BEGIN:DAYLIGHT
DTSTART:20240310T030000
TZOFFSETFROM:-0600
TZOFFSETTO:-0500
TZNAME:CDT
END:DAYLIGHT
END:VTIMEZONE
END:VCALENDAR