BEGIN:VCALENDAR
VERSION:2.0
PRODID:-//wp-events-plugin.com//7.2.3.1//EN
BEGIN:VEVENT
UID:47@05entertainmentagency.com
DTSTART;TZID=America/Chicago:20240712T200000
DTEND;TZID=America/Chicago:20240712T230000
DTSTAMP:20240618T193325Z
URL:https://www.05entertainmentagency.com/events/jenna-katherine-tomballs-
 empty-glass/
SUMMARY:Jenna Katherine @ Tomball's Empty Glass
DESCRIPTION:
ATTACH;FMTTYPE=image/jpeg:https://www.05entertainmentagency.com/wp-content
 /uploads/2024/06/Jenna-Katherine-Empty-Glass-2024-scaled.jpg
LOCATION:Tomball's Empty Glass\, 104 Market St\, Tomball\, TX\, 77375\, Uni
 ted States
X-APPLE-STRUCTURED-LOCATION;VALUE=URI;X-ADDRESS=104 Market St\, Tomball\, T
 X\, 77375\, United States;X-APPLE-RADIUS=100;X-TITLE=Tomball's Empty Glass
 :geo:0,0
END:VEVENT
BEGIN:VTIMEZONE
TZID:America/Chicago
X-LIC-LOCATION:America/Chicago
BEGIN:DAYLIGHT
DTSTART:20240310T030000
TZOFFSETFROM:-0600
TZOFFSETTO:-0500
TZNAME:CDT
END:DAYLIGHT
END:VTIMEZONE
END:VCALENDAR