BEGIN:VCALENDAR
VERSION:2.0
PRODID:-//wp-events-plugin.com//7.2.3.1//EN
BEGIN:VEVENT
UID:105@05entertainmentagency.com
DTSTART;TZID=America/Chicago:20250119T130000
DTEND;TZID=America/Chicago:20250119T200000
DTSTAMP:20241118T064250Z
URL:https://www.05entertainmentagency.com/events/maverick-murphy-w-special
 -guest-patrick-murphy-private-event/
SUMMARY:Maverick Murphy w/Special Guest Patrick Murphy @ Private Event
DESCRIPTION:
ATTACH;FMTTYPE=image/jpeg:https://www.05entertainmentagency.com/wp-content
 /uploads/2024/11/Profile.jpg
LOCATION:Private Event\, Private \, Cat Springs\, Texas\, 78933\, United St
 ates
X-APPLE-STRUCTURED-LOCATION;VALUE=URI;X-ADDRESS=Private \, Cat Springs\, Te
 xas\, 78933\, United States;X-APPLE-RADIUS=100;X-TITLE=Private Event:geo:0
 ,0
END:VEVENT
BEGIN:VTIMEZONE
TZID:America/Chicago
X-LIC-LOCATION:America/Chicago
BEGIN:STANDARD
DTSTART:20241103T010000
TZOFFSETFROM:-0500
TZOFFSETTO:-0600
TZNAME:CST
END:STANDARD
END:VTIMEZONE
END:VCALENDAR