BEGIN:VCALENDAR
VERSION:2.0
PRODID:-//wp-events-plugin.com//7.2.3.1//EN
BEGIN:VEVENT
UID:103@05entertainmentagency.com
DTSTART;TZID=America/Chicago:20241123T100000
DTEND;TZID=America/Chicago:20241123T190000
DTSTAMP:20241118T155812Z
URL:https://www.05entertainmentagency.com/events/saratoga-comic-con-2/
SUMMARY:Jenna Frank @ Saratoga Comic Con
DESCRIPTION:
ATTACH;FMTTYPE=image/jpeg:https://www.05entertainmentagency.com/wp-content
 /uploads/2024/11/Screenshot_20241117_203118_Instagram.jpg
LOCATION:Saratoga Springs City Center\, 522 Broadway\, Saratoga Springs\, N
 ew York\, 12866\, United States
X-APPLE-STRUCTURED-LOCATION;VALUE=URI;X-ADDRESS=522 Broadway\, Saratoga Spr
 ings\, New York\, 12866\, United States;X-APPLE-RADIUS=100;X-TITLE=Saratog
 a Springs City Center:geo:0,0
END:VEVENT
BEGIN:VTIMEZONE
TZID:America/Chicago
X-LIC-LOCATION:America/Chicago
BEGIN:STANDARD
DTSTART:20241103T010000
TZOFFSETFROM:-0500
TZOFFSETTO:-0600
TZNAME:CST
END:STANDARD
END:VTIMEZONE
END:VCALENDAR