BEGIN:VCALENDAR
VERSION:2.0
PRODID:-//wp-events-plugin.com//7.2.3.1//EN
BEGIN:VEVENT
UID:50@05entertainmentagency.com
DTSTART;TZID=America/Chicago:20241011T100000
DTEND;TZID=America/Chicago:20241012T230000
DTSTAMP:20240702T235954Z
URL:https://www.05entertainmentagency.com/events/seer-serve-1st-annual-bar
 -b-que-cookoff-pasadena-fairgrounds/
SUMMARY:SEER & Serve 1st Annual Bar-B-Que Cookoff @ Pasadena Fairgrounds
DESCRIPTION:
ATTACH;FMTTYPE=image/jpeg:https://www.05entertainmentagency.com/wp-content
 /uploads/2024/07/SEER-Sever-2024-Cookoff-2-scaled.jpg
LOCATION:Pasadena Fairgrounds\, 7601 Red Bluff\, Pasadena \, TX\, 77507\, U
 nited States
X-APPLE-STRUCTURED-LOCATION;VALUE=URI;X-ADDRESS=7601 Red Bluff\, Pasadena \
 , TX\, 77507\, United States;X-APPLE-RADIUS=100;X-TITLE=Pasadena Fairgroun
 ds:geo:0,0
END:VEVENT
BEGIN:VTIMEZONE
TZID:America/Chicago
X-LIC-LOCATION:America/Chicago
BEGIN:DAYLIGHT
DTSTART:20240310T030000
TZOFFSETFROM:-0600
TZOFFSETTO:-0500
TZNAME:CDT
END:DAYLIGHT
END:VTIMEZONE
END:VCALENDAR