BEGIN:VCALENDAR
VERSION:2.0
PRODID:-//wp-events-plugin.com//7.2.3.1//EN
BEGIN:VEVENT
UID:34@05entertainmentagency.com
DTSTART:20241012T170000Z
DTEND:20241013T040000Z
DTSTAMP:20240702T235142Z
URL:https://www.05entertainmentagency.com/events/southeast-harris-count-em
 ergency-services-1st-annual-bar-b-que-cookoff-pasadena-fairgrounds-2/
SUMMARY:SEER & Serve 1st Annual Bar-B-Que Cookoff @ Pasadena Fairgrounds
DESCRIPTION:
ATTACH;FMTTYPE=image/jpeg:https://www.05entertainmentagency.com/wp-content
 /uploads/2024/04/Mark-Wills-Oct-12th-SEER-2-scaled.jpg
LOCATION:Pasadena Fairgrounds\, 7601 Red Bluff\, Pasadena \, TX\, 77507\, U
 nited States
X-APPLE-STRUCTURED-LOCATION;VALUE=URI;X-ADDRESS=7601 Red Bluff\, Pasadena \
 , TX\, 77507\, United States;X-APPLE-RADIUS=100;X-TITLE=Pasadena Fairgroun
 ds:geo:0,0
END:VEVENT
END:VCALENDAR